BEGIN:VCALENDAR
VERSION:2.0
PRODID:-//ChamberMaster//Event Calendar 2.0//EN
METHOD:PUBLISH
X-PUBLISHED-TTL:P1H
REFRESH-INTERVAL:P1H
CALSCALE:GREGORIAN
BEGIN:VTIMEZONE
TZID:America/New_York
BEGIN:DAYLIGHT
RRULE:FREQ=YEARLY;BYMONTH=3;BYDAY=2SU
DTSTART:20070101T000000
TZOFFSETFROM:-0500
TZOFFSETTO:-0400
TZNAME:Eastern Daylight Time
END:DAYLIGHT
BEGIN:STANDARD
RRULE:FREQ=YEARLY;BYMONTH=11;BYDAY=1SU
DTSTART:20070101T000000
TZOFFSETFROM:-0400
TZOFFSETTO:-0500
TZNAME:Eastern Standard Time
END:STANDARD
END:VTIMEZONE
BEGIN:VEVENT
DTSTART;TZID=America/New_York:20260601T173000
DTEND;TZID=America/New_York:20260601T203000
X-MICROSOFT-CDO-ALLDAYEVENT:FALSE
SUMMARY:Beginner Wheel Pottery Course
DESCRIPTION:7 Mondays | June 1\, 8\, 15\, 22\, 29\, July 6 & 13 | 5:30 - 8 PM \nWeeks 1-5 - Instructor Paul Sirofchuck will teach you the basics of centering on the wheel and cover beginner throwing and trimming techniques. You'll explore ceramic forms as you make cups\, bowls\, small plates & other vessels\, alter thrown pieces\, and make & attach handles to mugs or pots. (Please note that this is a "wheel only" course. If you are looking to hand-build\, check out our other offerings!) This class is also perfect if you've already taken a wheel pottery class (here or elsewhere) but would like to review and expand your beginner techniques. Week 6 - After the 5th wheel session\, you will have a 6th session to finish up work from previous sessions to prep for a bisque-firing (first firing) in our kiln. During this session\, Mandy Sirofchuck will also instruct on the glazing process that will occur in the 7th session. As a group\, you will select the glazes to be used in week 7. Week 7 - The 7th session will consist of glazing bisqued pieces. They'll then be fired and ready for pickup\, typically in about 2 weeks! Register at MainExhibitGallery.com!
X-ALT-DESC;FMTTYPE=text/html:<!DOCTYPE html><html><head><title></title></head><body aria-disabled="false"><p>7 Mondays | June 1\, 8\, 15\, 22\, 29\, July 6 &amp\; 13 | 5:30 - 8 PM&nbsp\;</p><p><br></p><ul fr-original-style="" style="list-style-position: inside\;"><li><strong fr-original-style="" style="font-weight: 700\;">Weeks 1-5&nbsp\;</strong>- Instructor Paul Sirofchuck will teach you the basics of centering on the wheel and cover beginner throwing and trimming techniques. You&#39\;ll explore ceramic forms as you make cups\, bowls\, small plates &amp\; other vessels\, alter thrown pieces\, and make &amp\; attach handles to mugs or pots. (Please note that this is a &quot\;wheel only&quot\; course. If you are looking to hand-build\, check out our other offerings!) This class is also perfect if you&#39\;ve already taken a wheel pottery class (here or elsewhere) but would like to review and expand your beginner techniques.&nbsp\;</li><li><strong fr-original-style="" style="font-weight: 700\;">Week 6&nbsp\;</strong>- After the 5th wheel session\, you will have a 6th session to finish up work from previous sessions to prep for a bisque-firing (first firing) in our kiln. During this session\, Mandy Sirofchuck will also instruct on the glazing process that will occur in the 7th session. As a group\, you will select the glazes to be used in week 7.&nbsp\;</li><li><strong fr-original-style="" style="font-weight: 700\;">Week 7&nbsp\;</strong>- The 7th session will consist of glazing bisqued pieces. They&#39\;ll then be fired and ready for pickup\, typically in about 2 weeks!&nbsp\;</li><li style="font-weight: bold\;"><strong fr-original-style="" style="font-weight: 700\;">Register at MainExhibitGallery.com!</strong></li></ul></body></html>
LOCATION:301 West Main St. Ligonier PA 15658
UID:e.2201.1444759
SEQUENCE:3
DTSTAMP:20260422T122240Z
URL:https://business.ligonier.com/communityevents/Details/beginner-wheel-pottery-course-1711161?sourceTypeId=Hub
END:VEVENT
END:VCALENDAR
