BEGIN:VCALENDAR
VERSION:2.0
PRODID:-//ChamberMaster//Event Calendar 2.0//EN
METHOD:PUBLISH
X-PUBLISHED-TTL:P1H
REFRESH-INTERVAL:P1H
CALSCALE:GREGORIAN
BEGIN:VTIMEZONE
TZID:America/New_York
BEGIN:DAYLIGHT
RRULE:FREQ=YEARLY;BYMONTH=3;BYDAY=2SU
DTSTART:20070101T000000
TZOFFSETFROM:-0500
TZOFFSETTO:-0400
TZNAME:Eastern Daylight Time
END:DAYLIGHT
BEGIN:STANDARD
RRULE:FREQ=YEARLY;BYMONTH=11;BYDAY=1SU
DTSTART:20070101T000000
TZOFFSETFROM:-0400
TZOFFSETTO:-0500
TZNAME:Eastern Standard Time
END:STANDARD
END:VTIMEZONE
BEGIN:VEVENT
DTSTART;TZID=America/New_York:20260501T120000
DTEND;TZID=America/New_York:20260531T120000
X-MICROSOFT-CDO-ALLDAYEVENT:FALSE
SUMMARY:Celebrate 27 Years with the Colonial House on Main
DESCRIPTION:
X-ALT-DESC;FMTTYPE=text/html:
LOCATION:231 West Main Street Ligonier PA 15658
UID:e.2201.1448297
SEQUENCE:3
DTSTAMP:20260422T122519Z
URL:https://business.ligonier.com/communityevents/Details/celebrate-27-years-with-the-colonial-house-on-main-1715297?sourceTypeId=Hub
END:VEVENT
END:VCALENDAR
