BEGIN:VCALENDAR
VERSION:2.0
PRODID:-//ChamberMaster//Event Calendar 2.0//EN
METHOD:PUBLISH
X-PUBLISHED-TTL:P1H
REFRESH-INTERVAL:P1H
CALSCALE:GREGORIAN
BEGIN:VTIMEZONE
TZID:America/New_York
BEGIN:DAYLIGHT
RRULE:FREQ=YEARLY;BYMONTH=3;BYDAY=2SU
DTSTART:20070101T000000
TZOFFSETFROM:-0500
TZOFFSETTO:-0400
TZNAME:Eastern Daylight Time
END:DAYLIGHT
BEGIN:STANDARD
RRULE:FREQ=YEARLY;BYMONTH=11;BYDAY=1SU
DTSTART:20070101T000000
TZOFFSETFROM:-0400
TZOFFSETTO:-0500
TZNAME:Eastern Standard Time
END:STANDARD
END:VTIMEZONE
BEGIN:VEVENT
DTSTART;TZID=America/New_York:20260724T173000
DTEND;TZID=America/New_York:20260724T193000
X-MICROSOFT-CDO-ALLDAYEVENT:FALSE
SUMMARY:Try the Wheel! An Intro to Pottery
DESCRIPTION:If you've ever said\, "I've always wanted to try that!" this is the perfect place to begin. Get a feel for the pottery wheel in this one-night\, 2 hour class on July 24\, 5:30-7:30 PM. Do it with a friend and make it a date\, or meet new friends. Learn to center\, open\, and pull clay to create simple forms. Build one or two small wheel-thrown pieces and have a memorable hands-on experience with clay. We'll do the glazing after bisque firing\; your fired\, finished pieces are a bonus! Register at MainExhibitGallery.com. *This Intro is also available as a private group class. Contact us for more information.
X-ALT-DESC;FMTTYPE=text/html:<!DOCTYPE html><html><head><title></title></head><body aria-disabled="false"><p>If you&rsquo\;ve ever said\, &ldquo\;I&rsquo\;ve always wanted to try that!&rdquo\; this is the perfect place to begin. Get a feel for the pottery wheel in this one-night\, 2 hour class on <strong fr-original-style="" style="font-weight: 700\;">July 24\, 5:30-7:30 PM</strong>. Do it with a friend and make it a date\, or meet new friends. Learn to center\, open\, and pull clay to create simple forms. Build one or two small wheel-thrown pieces and have a memorable hands-on experience with clay. We&rsquo\;ll do the glazing after bisque firing\; your fired\, finished pieces are a bonus! Register at <strong fr-original-style="" style="font-weight: 700\;">MainExhibitGallery.com. </strong><em>*This Intro is also available as a private group class. Contact us for more information.</em></p></body></html>
LOCATION:301 West Main St. Ligonier PA 15658
UID:e.2201.1444733
SEQUENCE:3
DTSTAMP:20260422T122301Z
URL:https://business.ligonier.com/communityevents/Details/try-the-wheel-an-intro-to-pottery-1711135?sourceTypeId=Hub
END:VEVENT
END:VCALENDAR
